BEGIN:VCALENDAR
VERSION:2.0
PRODID:-//Frolic//Denver Events//EN
CALSCALE:GREGORIAN
METHOD:PUBLISH
X-WR-CALNAME:Frolic — Pozole for a purpose
BEGIN:VEVENT
UID:69ec91cefbf25b2876c8a39c-1788022800000@frolic.town
DTSTAMP:20260425T152724Z
DTSTART:20260829T170000Z
DTEND:20260829T210000Z
SUMMARY:Pozole for a purpose
DESCRIPTION:Enjoy ¡Pozole for a purpose! in Denver—delicious pozole served while you support a good cause together. Come for the meal and the community energy behind it.\nhttps://frolic.town/denver/events/69ec91cefbf25b2876c8a39c
URL:https://frolic.town/denver/events/69ec91cefbf25b2876c8a39c
END:VEVENT
END:VCALENDAR
