BEGIN:VCALENDAR
VERSION:2.0
PRODID:-//Frolic//Denver Events//EN
CALSCALE:GREGORIAN
METHOD:PUBLISH
X-WR-CALNAME:Frolic — 10th Anniversary Breastival
BEGIN:VEVENT
UID:69ec91cafbf25b2876c8a341-1785600000000@frolic.town
DTSTAMP:20260425T150233Z
DTSTART:20260801T160000Z
DTEND:20260801T200000Z
SUMMARY:10th Anniversary Breastival
DESCRIPTION:10th Anniversary Colorado Breastival at Denver Central Park on Saturday\, August 1st\, 2026. This free event welcomes all families!\nhttps://frolic.town/denver/events/69ec91cafbf25b2876c8a341
LOCATION:Central Park\, 8601 Martin Luther King Junior Boulevard\, Denver\, CO 80238
URL:https://frolic.town/denver/events/69ec91cafbf25b2876c8a341
END:VEVENT
END:VCALENDAR
