BEGIN:VCALENDAR
VERSION:2.0
PRODID:-//Frolic//Denver Events//EN
CALSCALE:GREGORIAN
METHOD:PUBLISH
X-WR-CALNAME:Frolic — REVEL in Talent
BEGIN:VEVENT
UID:69ec91c7fbf25b2876c8a303-1779409800000@frolic.town
DTSTAMP:20260425T152410Z
DTSTART:20260522T003000Z
DTEND:20260522T023000Z
SUMMARY:REVEL in Talent
DESCRIPTION:Join us for an unforgettable evening to celebrate our 10th Anniversary. REVEL in Talent is produced in partnership with DCPA.\nhttps://frolic.town/denver/events/69ec91c7fbf25b2876c8a303
URL:https://frolic.town/denver/events/69ec91c7fbf25b2876c8a303
END:VEVENT
END:VCALENDAR
