BEGIN:VCALENDAR
VERSION:2.0
PRODID:-//Frolic//Denver Events//EN
CALSCALE:GREGORIAN
METHOD:PUBLISH
X-WR-CALNAME:Frolic — Pulse of America
BEGIN:VEVENT
UID:69ec91c1fbf25b2876c8a278-1779049800000@frolic.town
DTSTAMP:20260425T150936Z
DTSTART:20260517T203000Z
DTEND:20260517T223000Z
SUMMARY:Pulse of America
DESCRIPTION:Join us for Pulse of America\, a thrilling finale filled with patriotic fanfare\, bold rhythms\, and a celebration of our nation's heartbeat!\nhttps://frolic.town/denver/events/69ec91c1fbf25b2876c8a278
LOCATION:Bethany Lutheran Church\, 4500 E Hampden Ave\, Cherry Hills Village\, CO 80113
URL:https://frolic.town/denver/events/69ec91c1fbf25b2876c8a278
END:VEVENT
END:VCALENDAR
