BEGIN:VCALENDAR
VERSION:2.0
PRODID:-//Frolic//Denver Events//EN
CALSCALE:GREGORIAN
METHOD:PUBLISH
X-WR-CALNAME:Frolic — Level Up! LIVE From The Center (Night 2)
BEGIN:VEVENT
UID:69ec91b4fbf25b2876c8a195-1777158000000@frolic.town
DTSTAMP:20260425T152518Z
DTSTART:20260425T230000Z
DTEND:20260426T040000Z
SUMMARY:Level Up! LIVE From The Center (Night 2)
DESCRIPTION:Level Up! LIVE From The Center (Night 2) welcomes you to Denver for open play and live tournaments. It’s open to the public (21+)\, with networking included so you can meet fellow players while you play. Everyone’s welcome.\nhttps://frolic.town/denver/events/69ec91b4fbf25b2876c8a195
URL:https://frolic.town/denver/events/69ec91b4fbf25b2876c8a195
END:VEVENT
END:VCALENDAR
