BEGIN:VCALENDAR
VERSION:2.0
PRODID:-//Frolic//Denver Events//EN
CALSCALE:GREGORIAN
METHOD:PUBLISH
X-WR-CALNAME:Frolic — UX Design Hackathon with UX Woman
BEGIN:VEVENT
UID:69ec91b3fbf25b2876c8a183-1780246800000@frolic.town
DTSTAMP:20260425T152249Z
DTSTART:20260531T170000Z
DTEND:20260531T210000Z
SUMMARY:UX Design Hackathon with UX Woman
DESCRIPTION:Land $100K+ UX jobs\, lead design strategy\, and launch impactful startups\, designing for your community & rethinking the status quo.\nhttps://frolic.town/denver/events/69ec91b3fbf25b2876c8a183
URL:https://frolic.town/denver/events/69ec91b3fbf25b2876c8a183
END:VEVENT
END:VCALENDAR
