BEGIN:VCALENDAR
VERSION:2.0
PRODID:-//Frolic//Denver Events//EN
CALSCALE:GREGORIAN
METHOD:PUBLISH
X-WR-CALNAME:Frolic — The AI Edge: Supercharge Your Startup Vision
BEGIN:VEVENT
UID:69ec91b3fbf25b2876c8a17b-1779145200000@frolic.town
DTSTAMP:20260425T150512Z
DTSTART:20260518T230000Z
DTEND:20260519T010000Z
SUMMARY:The AI Edge: Supercharge Your Startup Vision
DESCRIPTION:Get ready to level up your startup game with cutting-edge AI technology at The AI Edge event - it's time to supercharge your vision!\nhttps://frolic.town/denver/events/69ec91b3fbf25b2876c8a17b
URL:https://frolic.town/denver/events/69ec91b3fbf25b2876c8a17b
END:VEVENT
END:VCALENDAR
