BEGIN:VCALENDAR
VERSION:2.0
PRODID:-//Frolic//Denver Events//EN
CALSCALE:GREGORIAN
METHOD:PUBLISH
X-WR-CALNAME:Frolic — Virtual Event: Nalini Singh\, Archangel's Eternity
BEGIN:VEVENT
UID:69ec91b2fbf25b2876c8a16e-1777937400000@frolic.town
DTSTAMP:20260425T151058Z
DTSTART:20260504T233000Z
DTEND:20260505T013000Z
SUMMARY:Virtual Event: Nalini Singh\, Archangel's Eternity
DESCRIPTION:Discover Nalini Singh live in a virtual event hosted by East City Bookshop. She returns to discuss her latest romance\, “Archangel’s Eternity.” Perfect if you want a book-focused conversation from home.\nhttps://frolic.town/denver/events/69ec91b2fbf25b2876c8a16e
URL:https://frolic.town/denver/events/69ec91b2fbf25b2876c8a16e
END:VEVENT
END:VCALENDAR
