BEGIN:VCALENDAR
VERSION:2.0
PRODID:-//Frolic//Denver Events//EN
CALSCALE:GREGORIAN
METHOD:PUBLISH
X-WR-CALNAME:Frolic — Leadership For Lightworkers: 1000x Your Impact (Live Masterclass)
BEGIN:VEVENT
UID:69ec91b2fbf25b2876c8a166-1777827600000@frolic.town
DTSTAMP:20260425T145901Z
DTSTART:20260503T170000Z
DTEND:20260503T183000Z
SUMMARY:Leadership For Lightworkers: 1000x Your Impact (Live Masterclass)
DESCRIPTION:100x your impact as a lightworker by learning the secrets of spiritual leadership. This free masterclass will help you achieve your mission.\nhttps://frolic.town/denver/events/69ec91b2fbf25b2876c8a166
URL:https://frolic.town/denver/events/69ec91b2fbf25b2876c8a166
END:VEVENT
END:VCALENDAR
