BEGIN:VCALENDAR
VERSION:2.0
PRODID:-//Frolic//Denver Events//EN
CALSCALE:GREGORIAN
METHOD:PUBLISH
X-WR-CALNAME:Frolic — Choir League Presents: Rebel\, Rejoice\, Repeat!
BEGIN:VEVENT
UID:69ec91b1fbf25b2876c8a14f-1778895000000@frolic.town
DTSTAMP:20260425T153349Z
DTSTART:20260516T013000Z
DTEND:20260516T023000Z
SUMMARY:Choir League Presents: Rebel\, Rejoice\, Repeat!
DESCRIPTION:A thrilling\, soul-igniting musical experience in partnership with Lonnie Norwood and the Uniting Voices Chicago choir.\nhttps://frolic.town/denver/events/69ec91b1fbf25b2876c8a14f
LOCATION:Central Presbyterian Church\, 1660 Sherman Street\, Denver\, CO 80203
URL:https://frolic.town/denver/events/69ec91b1fbf25b2876c8a14f
END:VEVENT
END:VCALENDAR
