BEGIN:VCALENDAR
VERSION:2.0
PRODID:-//Frolic//Denver Events//EN
CALSCALE:GREGORIAN
METHOD:PUBLISH
X-WR-CALNAME:Frolic — COJA Presents: Get Me to the Gray LIVE ft. DA Alexis King
BEGIN:VEVENT
UID:69ec91b0fbf25b2876c8a13a-1777237200000@frolic.town
DTSTAMP:20260425T151146Z
DTSTART:20260426T210000Z
DTEND:20260426T230000Z
SUMMARY:COJA Presents: Get Me to the Gray LIVE ft. DA Alexis King
DESCRIPTION:Join COJA for “Get Me to the Gray LIVE ft. DA Alexis King” in Denver. This community conversation digs into power\, prosecution\, and what justice really means. Come for the discussion and stay for the perspective.\nhttps://frolic.town/denver/events/69ec91b0fbf25b2876c8a13a
URL:https://frolic.town/denver/events/69ec91b0fbf25b2876c8a13a
END:VEVENT
END:VCALENDAR
