BEGIN:VCALENDAR
VERSION:2.0
PRODID:-//Frolic//Denver Events//EN
CALSCALE:GREGORIAN
METHOD:PUBLISH
X-WR-CALNAME:Frolic — Qveen Herby w/ Thot Squad
BEGIN:VEVENT
UID:69ec8fc9fbf25b2876c89905-1779588000000@frolic.town
DTSTAMP:20260425T155031Z
DTSTART:20260524T020000Z
DTEND:20260524T040000Z
SUMMARY:Qveen Herby w/ Thot Squad
DESCRIPTION:Qveen Herby w/ Thot Squad takes the stage at Mission Ballroom in Denver. If you’re planning a night out at 4242 Wynkoop St\, this is a great option for live music energy.\nhttps://frolic.town/denver/events/69ec8fc9fbf25b2876c89905
LOCATION:Mission Ballroom\, 4242 Wynkoop St\, Denver\, CO\, 80216
URL:https://frolic.town/denver/events/69ec8fc9fbf25b2876c89905
END:VEVENT
END:VCALENDAR
