BEGIN:VCALENDAR
VERSION:2.0
PRODID:-//Frolic//Denver Events//EN
CALSCALE:GREGORIAN
METHOD:PUBLISH
X-WR-CALNAME:Frolic — Keenan TreVon
BEGIN:VEVENT
UID:69ec8fc9fbf25b2876c898fa-1779588000000@frolic.town
DTSTAMP:20260425T145900Z
DTSTART:20260524T020000Z
DTEND:20260524T040000Z
SUMMARY:Keenan TreVon
DESCRIPTION:Enjoy Keenan TreVon at the Bluebird Theatre in Denver. It’s set for a night at 3317 E. Colfax Avenue\, a go-to venue when you want a memorable live show experience.\nhttps://frolic.town/denver/events/69ec8fc9fbf25b2876c898fa
LOCATION:Bluebird Theatre\, 3317 E. Colfax Avenue\, Denver\, CO\, 80206
URL:https://frolic.town/denver/events/69ec8fc9fbf25b2876c898fa
END:VEVENT
END:VCALENDAR
