BEGIN:VCALENDAR
VERSION:2.0
PRODID:-//Frolic//Denver Events//EN
CALSCALE:GREGORIAN
METHOD:PUBLISH
X-WR-CALNAME:Frolic — Bodies - The Science Within - Denver
BEGIN:VEVENT
UID:69ec8fc5fbf25b2876c898a1-1779584400000@frolic.town
DTSTAMP:20260425T154923Z
DTSTART:20260524T010000Z
DTEND:20260524T013000Z
SUMMARY:Bodies - The Science Within - Denver
DESCRIPTION:Discover “Bodies - The Science Within - Denver” at Denver Pavilions\, a compelling option for families who want something educational and engaging. Head to 500 16th Street Suite 10 for an experience centered on the science of the body.\nhttps://frolic.town/denver/events/69ec8fc5fbf25b2876c898a1
LOCATION:Denver Pavilions\, 500 16th Street Suite 10\, Denver\, CO\, 80202
URL:https://frolic.town/denver/events/69ec8fc5fbf25b2876c898a1
END:VEVENT
END:VCALENDAR
