BEGIN:VCALENDAR
VERSION:2.0
PRODID:-//Frolic//Denver Events//EN
CALSCALE:GREGORIAN
METHOD:PUBLISH
X-WR-CALNAME:Frolic — In-Person Trans Masculine Support Group
BEGIN:VEVENT
UID:69ec8dafdfacabf705ea34c1-1777489200000@frolic.town
DTSTAMP:20260425T150745Z
DTSTART:20260429T190000Z
DTEND:20260429T210000Z
SUMMARY:In-Person Trans Masculine Support Group
DESCRIPTION:This in-person\, peer-led\, confidential support group is for people assigned female at birth who identify as trans masculine. It offers a space for support\, resources\, and connection with others in a similar community. The group is limited to adults 18 and older.\nhttps://frolic.town/denver/events/69ec8dafdfacabf705ea34c1
LOCATION:The Center on Colfax
URL:https://frolic.town/denver/events/69ec8dafdfacabf705ea34c1
END:VEVENT
END:VCALENDAR
