BEGIN:VCALENDAR
VERSION:2.0
PRODID:-//Frolic//Denver Events//EN
CALSCALE:GREGORIAN
METHOD:PUBLISH
X-WR-CALNAME:Frolic — Denver Gem And Mineral Show
BEGIN:VEVENT
UID:69ec8b3edfacabf705ea2fb2-1788289200000@frolic.town
DTSTAMP:20260425T150915Z
DTSTART:20260901T190000Z
DTEND:20260901T210000Z
SUMMARY:Denver Gem And Mineral Show
DESCRIPTION:A large annual gem and mineral expo featuring polished stones\, natural specimens\, and vendors from across the Southwest and beyond. Visitors can browse beautiful displays\, shop for pieces at every price point\, and try hands-on activities like panning for gold or cracking a geode. Educational exhibits make it appealing for families\, collectors\, and curious first-timers alike.\nhttps://frolic.town/denver/events/69ec8b3edfacabf705ea2fb2
LOCATION:Denver Gem And Mineral Show
URL:https://frolic.town/denver/events/69ec8b3edfacabf705ea2fb2
END:VEVENT
END:VCALENDAR
