BEGIN:VCALENDAR
VERSION:2.0
PRODID:-//Frolic//Denver Events//EN
CALSCALE:GREGORIAN
METHOD:PUBLISH
X-WR-CALNAME:Frolic — Polish Food Festival
BEGIN:VEVENT
UID:69ec8b3edfacabf705ea2fa9-1782932400000@frolic.town
DTSTAMP:20260425T150035Z
DTSTART:20260701T190000Z
DTEND:20260701T210000Z
SUMMARY:Polish Food Festival
DESCRIPTION:A summer celebration of Polish food\, song\, and dance hosted on the church grounds. Expect a very family-friendly atmosphere with hearty entrees\, desserts\, and takeout available for those who want to bring the flavors home. It's a cultural day out that blends community\, tradition\, and plenty of eating.\nhttps://frolic.town/denver/events/69ec8b3edfacabf705ea2fa9
LOCATION:St. Joseph's (Polish) Catholic Church
URL:https://frolic.town/denver/events/69ec8b3edfacabf705ea2fa9
END:VEVENT
END:VCALENDAR
