BEGIN:VCALENDAR
VERSION:2.0
PRODID:-//Frolic//Denver Events//EN
CALSCALE:GREGORIAN
METHOD:PUBLISH
X-WR-CALNAME:Frolic — Learn a Tool to Let Go of Negative Emotions
BEGIN:VEVENT
UID:69ec8b2cdfacabf705ea2e5d-1777140000000@frolic.town
DTSTAMP:20260425T152946Z
DTSTART:20260425T180000Z
DTEND:20260425T190000Z
SUMMARY:Learn a Tool to Let Go of Negative Emotions
DESCRIPTION:Hosted by Health Social Life Healthy Mind\, this online event promises a practical tool for releasing negative emotions. It appears to be a supportive\, self-improvement-oriented session for people who want to feel lighter\, calmer\, and more in control of their emotional state. The meetup likely blends guidance\, reflection\, and simple techniques that attendees can use right away.\nhttps://frolic.town/denver/events/69ec8b2cdfacabf705ea2e5d
LOCATION:Online
URL:https://frolic.town/denver/events/69ec8b2cdfacabf705ea2e5d
END:VEVENT
END:VCALENDAR
