BEGIN:VCALENDAR
VERSION:2.0
PRODID:-//Frolic//Denver Events//EN
CALSCALE:GREGORIAN
METHOD:PUBLISH
X-WR-CALNAME:Frolic — How to Start Fresh after a Divorce or Breakup
BEGIN:VEVENT
UID:69ec8b2cdfacabf705ea2e52-1777140000000@frolic.town
DTSTAMP:20260425T150035Z
DTSTART:20260425T180000Z
DTEND:20260425T190000Z
SUMMARY:How to Start Fresh after a Divorce or Breakup
DESCRIPTION:This online meetup is hosted by Getting Over a Toxic or Narcissistic Partner and focuses on rebuilding after a divorce or breakup. It’s aimed at people who want a fresh start and likely offers emotional support\, perspective\, and practical next steps for moving forward. The session feels especially relevant for anyone recovering from a difficult relationship and looking for a guided reset.\nhttps://frolic.town/denver/events/69ec8b2cdfacabf705ea2e52
LOCATION:Online
URL:https://frolic.town/denver/events/69ec8b2cdfacabf705ea2e52
END:VEVENT
END:VCALENDAR
