BEGIN:VCALENDAR
VERSION:2.0
PRODID:-//Frolic//Denver Events//EN
CALSCALE:GREGORIAN
METHOD:PUBLISH
X-WR-CALNAME:Frolic — Sleep Anxiety: Why You Can’t Fall Asleep (Even When Exhausted)
BEGIN:VEVENT
UID:69ec8b2bdfacabf705ea2e41-1777140000000@frolic.town
DTSTAMP:20260425T151023Z
DTSTART:20260425T180000Z
DTEND:20260425T190000Z
SUMMARY:Sleep Anxiety: Why You Can’t Fall Asleep (Even When Exhausted)
DESCRIPTION:Join Neuro Reset for Anxiety & Overwhelm for an online session focused on the frustrating cycle of sleep anxiety and exhaustion. This meetup is designed for people who feel tired but still can’t drift off\, and it draws a large audience looking for practical relief and support. Expect a calming\, discussion-based experience centered on anxiety reset tools and sleep-related stress.\nhttps://frolic.town/denver/events/69ec8b2bdfacabf705ea2e41
LOCATION:Online
URL:https://frolic.town/denver/events/69ec8b2bdfacabf705ea2e41
END:VEVENT
END:VCALENDAR
