BEGIN:VCALENDAR
VERSION:2.0
PRODID:-//Frolic//Denver Events//EN
CALSCALE:GREGORIAN
METHOD:PUBLISH
X-WR-CALNAME:Frolic — MOTHER'S DAY BIKE RIDE/WALK AND BRUNCH
BEGIN:VEVENT
UID:69ec8b2adfacabf705ea2e31-1778432400000@frolic.town
DTSTAMP:20260425T150313Z
DTSTART:20260510T170000Z
DTEND:20260510T190000Z
SUMMARY:MOTHER'S DAY BIKE RIDE/WALK AND BRUNCH
DESCRIPTION:Celebrate Mother’s Day with We Ski II on a bike ride or walk followed by brunch. This festive outing blends outdoor activity with a social meal\, making it a nice choice for families and friends looking to mark the holiday together.\nhttps://frolic.town/denver/events/69ec8b2adfacabf705ea2e31
URL:https://frolic.town/denver/events/69ec8b2adfacabf705ea2e31
END:VEVENT
END:VCALENDAR
