BEGIN:VCALENDAR
VERSION:2.0
PRODID:-//Frolic//Denver Events//EN
CALSCALE:GREGORIAN
METHOD:PUBLISH
X-WR-CALNAME:Frolic — AI x Tech Meetup
BEGIN:VEVENT
UID:69ec8b2adfacabf705ea2e29-1778027400000@frolic.town
DTSTAMP:20260425T150530Z
DTSTART:20260506T003000Z
DTEND:20260506T023000Z
SUMMARY:AI x Tech Meetup
DESCRIPTION:Bots\, Bytes & Brew hosts an AI x Tech Meetup for people interested in artificial intelligence and technology discussions. Expect a conversational meetup where attendees can exchange ideas\, learn from others\, and network around emerging tech topics.\nhttps://frolic.town/denver/events/69ec8b2adfacabf705ea2e29
URL:https://frolic.town/denver/events/69ec8b2adfacabf705ea2e29
END:VEVENT
END:VCALENDAR
