BEGIN:VCALENDAR
VERSION:2.0
PRODID:-//Frolic//Denver Events//EN
CALSCALE:GREGORIAN
METHOD:PUBLISH
X-WR-CALNAME:Frolic — We Ski II Flatlander Club meeting
BEGIN:VEVENT
UID:69ec8b2adfacabf705ea2e21-1777942800000@frolic.town
DTSTAMP:20260425T152328Z
DTSTART:20260505T010000Z
DTEND:20260505T030000Z
SUMMARY:We Ski II Flatlander Club meeting
DESCRIPTION:We Ski II hosts a Flatlander Club meeting for members and interested locals. It’s a casual meetup to connect with the group\, share plans\, and talk about upcoming activities.\nhttps://frolic.town/denver/events/69ec8b2adfacabf705ea2e21
URL:https://frolic.town/denver/events/69ec8b2adfacabf705ea2e21
END:VEVENT
END:VCALENDAR
