BEGIN:VCALENDAR
VERSION:2.0
PRODID:-//Frolic//Denver Events//EN
CALSCALE:GREGORIAN
METHOD:PUBLISH
X-WR-CALNAME:Frolic — Redding International Folk Dancers
BEGIN:VEVENT
UID:69ec8b2adfacabf705ea2e16-1777687200000@frolic.town
DTSTAMP:20260425T150529Z
DTSTART:20260502T020000Z
DTEND:20260502T040000Z
SUMMARY:Redding International Folk Dancers
DESCRIPTION:The Redding Dance Group invites you to an evening of international folk dancing. Come experience a welcoming community atmosphere centered on traditional dance styles and shared movement.\nhttps://frolic.town/denver/events/69ec8b2adfacabf705ea2e16
URL:https://frolic.town/denver/events/69ec8b2adfacabf705ea2e16
END:VEVENT
END:VCALENDAR
