BEGIN:VCALENDAR
VERSION:2.0
PRODID:-//Frolic//Denver Events//EN
CALSCALE:GREGORIAN
METHOD:PUBLISH
X-WR-CALNAME:Frolic — Afro-Latino Nights First Friday’s.
BEGIN:VEVENT
UID:69ec8b29dfacabf705ea2e0e-1777685400000@frolic.town
DTSTAMP:20260425T153002Z
DTSTART:20260502T013000Z
DTEND:20260502T033000Z
SUMMARY:Afro-Latino Nights First Friday’s.
DESCRIPTION:The Redding Dance Group brings Afro-Latino Nights to First Friday with an energetic evening of music and dance. It’s a lively social event for anyone who wants to enjoy rhythm\, movement\, and community celebration.\nhttps://frolic.town/denver/events/69ec8b29dfacabf705ea2e0e
URL:https://frolic.town/denver/events/69ec8b29dfacabf705ea2e0e
END:VEVENT
END:VCALENDAR
