BEGIN:VCALENDAR
VERSION:2.0
PRODID:-//Frolic//Denver Events//EN
CALSCALE:GREGORIAN
METHOD:PUBLISH
X-WR-CALNAME:Frolic — Friday Bike Ride on the Rail Trail.
BEGIN:VEVENT
UID:69ec8b29dfacabf705ea2e06-1777651200000@frolic.town
DTSTAMP:20260425T145900Z
DTSTART:20260501T160000Z
DTEND:20260501T190000Z
SUMMARY:Friday Bike Ride on the Rail Trail.
DESCRIPTION:We Ski II is hosting a Friday bike ride on the Rail Trail. Expect an easygoing group ride that’s ideal for cyclists who want a social\, active outing on a scenic route.\nhttps://frolic.town/denver/events/69ec8b29dfacabf705ea2e06
URL:https://frolic.town/denver/events/69ec8b29dfacabf705ea2e06
END:VEVENT
END:VCALENDAR
