BEGIN:VCALENDAR
VERSION:2.0
PRODID:-//Frolic//Denver Events//EN
CALSCALE:GREGORIAN
METHOD:PUBLISH
X-WR-CALNAME:Frolic — Tuesday morning bike ride
BEGIN:VEVENT
UID:69ec8b29dfacabf705ea2dfe-1777392000000@frolic.town
DTSTAMP:20260425T150313Z
DTSTART:20260428T160000Z
DTEND:20260428T190000Z
SUMMARY:Tuesday morning bike ride
DESCRIPTION:Join We Ski II for a Tuesday morning bike ride in the Redding area. This casual ride is a great way to get outside\, meet fellow cyclists\, and start the day with some fresh air and movement.\nhttps://frolic.town/denver/events/69ec8b29dfacabf705ea2dfe
URL:https://frolic.town/denver/events/69ec8b29dfacabf705ea2dfe
END:VEVENT
END:VCALENDAR
