BEGIN:VCALENDAR
VERSION:2.0
PRODID:-//Frolic//Denver Events//EN
CALSCALE:GREGORIAN
METHOD:PUBLISH
X-WR-CALNAME:Frolic — Trail Time | Spring Rise 🌼
BEGIN:VEVENT
UID:69ec8b27dfacabf705ea2de2-1777132800000@frolic.town
DTSTAMP:20260425T150529Z
DTSTART:20260425T160000Z
DTEND:20260425T190000Z
SUMMARY:Trail Time | Spring Rise 🌼
DESCRIPTION:Active Millennials + GenZ in Denver is hosting a recurring trail meetup called Trail Time. This spring outing is designed for people who want fresh air\, movement\, and a social outdoor experience with fellow hikers.\nhttps://frolic.town/denver/events/69ec8b27dfacabf705ea2de2
LOCATION:Unknown
URL:https://frolic.town/denver/events/69ec8b27dfacabf705ea2de2
END:VEVENT
END:VCALENDAR
