BEGIN:VCALENDAR
VERSION:2.0
PRODID:-//Frolic//Denver Events//EN
CALSCALE:GREGORIAN
METHOD:PUBLISH
X-WR-CALNAME:Frolic — Wash Park Hang: Kickball\, Volleyball and lawn games! (May Edition)
BEGIN:VEVENT
UID:69ec8b25dfacabf705ea2dbf-1778446800000@frolic.town
DTSTAMP:20260425T150441Z
DTSTART:20260510T210000Z
DTEND:20260510T230000Z
SUMMARY:Wash Park Hang: Kickball\, Volleyball and lawn games! (May Edition)
DESCRIPTION:Spend the afternoon at Wash Park with kickball\, volleyball\, and lawn games hosted by Denver 20s and 30s Social. This is an active\, outdoorsy hangout that mixes friendly competition with a laid-back social scene.\nhttps://frolic.town/denver/events/69ec8b25dfacabf705ea2dbf
LOCATION:Wash Park
URL:https://frolic.town/denver/events/69ec8b25dfacabf705ea2dbf
END:VEVENT
END:VCALENDAR
