BEGIN:VCALENDAR
VERSION:2.0
PRODID:-//Frolic//Denver Events//EN
CALSCALE:GREGORIAN
METHOD:PUBLISH
X-WR-CALNAME:Frolic — Grown Women Social Club: Devil Wears Prada Night (Dress-Up Edition)
BEGIN:VEVENT
UID:69ec8b23dfacabf705ea2d90-1777685400000@frolic.town
DTSTAMP:20260425T150334Z
DTSTART:20260502T013000Z
DTEND:20260502T033000Z
SUMMARY:Grown Women Social Club: Devil Wears Prada Night (Dress-Up Edition)
DESCRIPTION:The Grown Women Social Club Denver is hosting a themed dress-up night inspired by The Devil Wears Prada. Expect a stylish\, playful evening with a fashion-forward crowd\, conversation\, and a fun excuse to lean into the theme.\nhttps://frolic.town/denver/events/69ec8b23dfacabf705ea2d90
LOCATION:Unknown
URL:https://frolic.town/denver/events/69ec8b23dfacabf705ea2d90
END:VEVENT
END:VCALENDAR
