BEGIN:VCALENDAR
VERSION:2.0
PRODID:-//Frolic//Denver Events//EN
CALSCALE:GREGORIAN
METHOD:PUBLISH
X-WR-CALNAME:Frolic — Montycler w/ Milla B2B Monji Wesley Mack + RVGGZ
BEGIN:VEVENT
UID:69ec84a5dfacabf705ea2192-1777518000000@frolic.town
DTSTAMP:20260425T153626Z
DTSTART:20260430T030000Z
DTEND:20260430T050000Z
SUMMARY:Montycler w/ Milla B2B Monji Wesley Mack + RVGGZ
DESCRIPTION:Montycler shares the bill with Milla B2B Monji Wesley Mack and RVGGZ at Larimer Lounge. Expect a DJ-forward night with a packed dance floor and a late-night club feel.\nhttps://frolic.town/denver/events/69ec84a5dfacabf705ea2192
LOCATION:Larimer Lounge
URL:https://frolic.town/denver/events/69ec84a5dfacabf705ea2192
END:VEVENT
END:VCALENDAR
