BEGIN:VCALENDAR
VERSION:2.0
PRODID:-//Frolic//Denver Events//EN
CALSCALE:GREGORIAN
METHOD:PUBLISH
X-WR-CALNAME:Frolic — BASS BINGO – William Black / ALLEYCVT Edition!
BEGIN:VEVENT
UID:69ec84a4dfacabf705ea2187-1777510800000@frolic.town
DTSTAMP:20260425T153522Z
DTSTART:20260430T010000Z
DTEND:20260430T030000Z
SUMMARY:BASS BINGO – William Black / ALLEYCVT Edition!
DESCRIPTION:BASS BINGO brings a William Black / ALLEYCVT-themed bingo night to Larimer Lounge. It combines a playful game format with the venue’s energetic nightlife setting.\nhttps://frolic.town/denver/events/69ec84a4dfacabf705ea2187
LOCATION:Larimer Lounge
URL:https://frolic.town/denver/events/69ec84a4dfacabf705ea2187
END:VEVENT
END:VCALENDAR
