BEGIN:VCALENDAR
VERSION:2.0
PRODID:-//Frolic//Denver Events//EN
CALSCALE:GREGORIAN
METHOD:PUBLISH
X-WR-CALNAME:Frolic — Krewe of Buddha Summer Ball ft. Beasts Of No Nation\, Green Buddha\, RO$$AY Live Band\, Out Of Line Brass Band
BEGIN:VEVENT
UID:69ec846bdfacabf705ea1d75-1784428200000@frolic.town
DTSTAMP:20260425T152842Z
DTSTART:20260719T023000Z
DTEND:20260719T043000Z
SUMMARY:Krewe of Buddha Summer Ball ft. Beasts Of No Nation\, Green Buddha\, RO$$AY Live Band\, Out Of Line Brass Band
DESCRIPTION:Krewe of Buddha Summer Ball brings Beasts Of No Nation\, Green Buddha\, RO$$AY Live Band\, and Out Of Line Brass Band to Cervantes’ Other Side. Expect a festive\, brass-forward summer celebration with a party atmosphere.\nhttps://frolic.town/denver/events/69ec846bdfacabf705ea1d75
LOCATION:Cervantes’ Other Side
URL:https://frolic.town/denver/events/69ec846bdfacabf705ea1d75
END:VEVENT
END:VCALENDAR
