BEGIN:VCALENDAR
VERSION:2.0
PRODID:-//Frolic//Denver Events//EN
CALSCALE:GREGORIAN
METHOD:PUBLISH
X-WR-CALNAME:Frolic — Supertask – 2 Night Event – FRI 7/17 and SAT 7/18 AT MISHAWAKA AMPHITHEATRE
BEGIN:VEVENT
UID:69ec846bdfacabf705ea1d6a-1784336400000@frolic.town
DTSTAMP:20260425T152850Z
DTSTART:20260718T010000Z
DTEND:20260718T030000Z
SUMMARY:Supertask – 2 Night Event – FRI 7/17 and SAT 7/18 AT MISHAWAKA AMPHITHEATRE
DESCRIPTION:Cervantes’ and Mishawaka Presents a two-night Supertask event at The Mishawaka Amphitheatre. Expect an outdoor mountain-venue experience with extended sets and a weekend crowd.\nhttps://frolic.town/denver/events/69ec846bdfacabf705ea1d6a
LOCATION:The Mishawaka
URL:https://frolic.town/denver/events/69ec846bdfacabf705ea1d6a
END:VEVENT
END:VCALENDAR
