BEGIN:VCALENDAR
VERSION:2.0
PRODID:-//Frolic//Denver Events//EN
CALSCALE:GREGORIAN
METHOD:PUBLISH
X-WR-CALNAME:Frolic — **SOLD OUT** Paul Oakenfold w/ The Crystal Method
BEGIN:VEVENT
UID:69ec846adfacabf705ea1d5f-1784343600000@frolic.town
DTSTAMP:20260425T152600Z
DTSTART:20260718T030000Z
DTEND:20260718T050000Z
SUMMARY:**SOLD OUT** Paul Oakenfold w/ The Crystal Method
DESCRIPTION:Paul Oakenfold teams with The Crystal Method for a sold-out night at Cervantes’ Masterpiece Ballroom. Expect a classic electronic bill with nostalgic energy and a packed dance floor.\nhttps://frolic.town/denver/events/69ec846adfacabf705ea1d5f
LOCATION:Cervantes’ Masterpiece Ballroom
URL:https://frolic.town/denver/events/69ec846adfacabf705ea1d5f
END:VEVENT
END:VCALENDAR
