BEGIN:VCALENDAR
VERSION:2.0
PRODID:-//Frolic//Denver Events//EN
CALSCALE:GREGORIAN
METHOD:PUBLISH
X-WR-CALNAME:Frolic — Untz is Dead ft. Allen Aucoin\, Dylan Teifer\, Elie Herzog\, Fleeb Thomas
BEGIN:VEVENT
UID:69ec846adfacabf705ea1d54-1784257200000@frolic.town
DTSTAMP:20260425T153725Z
DTSTART:20260717T030000Z
DTEND:20260717T050000Z
SUMMARY:Untz is Dead ft. Allen Aucoin\, Dylan Teifer\, Elie Herzog\, Fleeb Thomas
DESCRIPTION:Untz is Dead celebrates The Grateful Dead with Allen Aucoin\, Dylan Teifer\, Elie Herzog\, and Fleeb Thomas at Cervantes’ Other Side. Expect an evening of live dance music\, improvisation\, and Dead-inspired jams.\nhttps://frolic.town/denver/events/69ec846adfacabf705ea1d54
LOCATION:Cervantes’ Other Side
URL:https://frolic.town/denver/events/69ec846adfacabf705ea1d54
END:VEVENT
END:VCALENDAR
