BEGIN:VCALENDAR
VERSION:2.0
PRODID:-//Frolic//Denver Events//EN
CALSCALE:GREGORIAN
METHOD:PUBLISH
X-WR-CALNAME:Frolic — Chris Travis Performing Live!
BEGIN:VEVENT
UID:69ec8469dfacabf705ea1d49-1783911600000@frolic.town
DTSTAMP:20260425T153627Z
DTSTART:20260713T030000Z
DTEND:20260713T050000Z
SUMMARY:Chris Travis Performing Live!
DESCRIPTION:Water Boyz Presents Chris Travis Performing Live! at Cervantes’ Masterpiece Ballroom. Expect a direct\, high-energy rap performance with a dedicated fan crowd.\nhttps://frolic.town/denver/events/69ec8469dfacabf705ea1d49
LOCATION:Cervantes’ Masterpiece Ballroom
URL:https://frolic.town/denver/events/69ec8469dfacabf705ea1d49
END:VEVENT
END:VCALENDAR
