BEGIN:VCALENDAR
VERSION:2.0
PRODID:-//Frolic//Denver Events//EN
CALSCALE:GREGORIAN
METHOD:PUBLISH
X-WR-CALNAME:Frolic — Kitty’s Rave
BEGIN:VEVENT
UID:69ec8469dfacabf705ea1d3e-1783828800000@frolic.town
DTSTAMP:20260425T152328Z
DTSTART:20260712T040000Z
DTEND:20260712T060000Z
SUMMARY:Kitty’s Rave
DESCRIPTION:Kitty’s Rave turns Cervantes’ Masterpiece Ballroom into a late-night dance party. Expect a 18+ crowd\, loud music\, and a club atmosphere built for a full-on rave experience.\nhttps://frolic.town/denver/events/69ec8469dfacabf705ea1d3e
LOCATION:Cervantes’ Masterpiece Ballroom
URL:https://frolic.town/denver/events/69ec8469dfacabf705ea1d3e
END:VEVENT
END:VCALENDAR
