BEGIN:VCALENDAR
VERSION:2.0
PRODID:-//Frolic//Denver Events//EN
CALSCALE:GREGORIAN
METHOD:PUBLISH
X-WR-CALNAME:Frolic — Delvon Lamarr Organ Trio w/ Typical Ghost
BEGIN:VEVENT
UID:69ec8469dfacabf705ea1d33-1783738800000@frolic.town
DTSTAMP:20260425T152554Z
DTSTART:20260711T030000Z
DTEND:20260711T050000Z
SUMMARY:Delvon Lamarr Organ Trio w/ Typical Ghost
DESCRIPTION:KGNU Radio Presents Delvon Lamarr Organ Trio with Typical Ghost at Cervantes’ Masterpiece Ballroom. Expect a soulful\, groove-heavy night with top-tier organ trio energy.\nhttps://frolic.town/denver/events/69ec8469dfacabf705ea1d33
LOCATION:Cervantes’ Masterpiece Ballroom
URL:https://frolic.town/denver/events/69ec8469dfacabf705ea1d33
END:VEVENT
END:VCALENDAR
