BEGIN:VCALENDAR
VERSION:2.0
PRODID:-//Frolic//Denver Events//EN
CALSCALE:GREGORIAN
METHOD:PUBLISH
X-WR-CALNAME:Frolic — Artifakts AT MISSION BALLROOM
BEGIN:VEVENT
UID:69ec8468dfacabf705ea1d28-1783738800000@frolic.town
DTSTAMP:20260425T153522Z
DTSTART:20260711T030000Z
DTEND:20260711T050000Z
SUMMARY:Artifakts AT MISSION BALLROOM
DESCRIPTION:AEG Presents Artifakts at Mission Ballroom. Expect a polished electronic concert in a large venue built for immersive sound and a dance-focused crowd.\nhttps://frolic.town/denver/events/69ec8468dfacabf705ea1d28
LOCATION:Mission Ballroom
URL:https://frolic.town/denver/events/69ec8468dfacabf705ea1d28
END:VEVENT
END:VCALENDAR
