BEGIN:VCALENDAR
VERSION:2.0
PRODID:-//Frolic//Denver Events//EN
CALSCALE:GREGORIAN
METHOD:PUBLISH
X-WR-CALNAME:Frolic — The Pamlico Sound w/ Midnight Soulbirds\, San Leandro
BEGIN:VEVENT
UID:69ec8468dfacabf705ea1d1d-1783737900000@frolic.town
DTSTAMP:20260425T152409Z
DTSTART:20260711T024500Z
DTEND:20260711T044500Z
SUMMARY:The Pamlico Sound w/ Midnight Soulbirds\, San Leandro
DESCRIPTION:KGNU Radio Presents The Pamlico Sound with Midnight Soulbirds and San Leandro at Cervantes’ Other Side. Expect a rootsy\, radio-presented live bill with an intimate club atmosphere.\nhttps://frolic.town/denver/events/69ec8468dfacabf705ea1d1d
LOCATION:Cervantes’ Other Side
URL:https://frolic.town/denver/events/69ec8468dfacabf705ea1d1d
END:VEVENT
END:VCALENDAR
