BEGIN:VCALENDAR
VERSION:2.0
PRODID:-//Frolic//Denver Events//EN
CALSCALE:GREGORIAN
METHOD:PUBLISH
X-WR-CALNAME:Frolic — corto.alto w/ +Ultra
BEGIN:VEVENT
UID:69ec8468dfacabf705ea1d12-1783479600000@frolic.town
DTSTAMP:20260425T152600Z
DTSTART:20260708T030000Z
DTEND:20260708T050000Z
SUMMARY:corto.alto w/ +Ultra
DESCRIPTION:corto.alto plays Cervantes’ Other Side with +Ultra. Expect a compact\, energetic live set in an intimate room that favors close-up performances.\nhttps://frolic.town/denver/events/69ec8468dfacabf705ea1d12
LOCATION:Cervantes’ Other Side
URL:https://frolic.town/denver/events/69ec8468dfacabf705ea1d12
END:VEVENT
END:VCALENDAR
