BEGIN:VCALENDAR
VERSION:2.0
PRODID:-//Frolic//Denver Events//EN
CALSCALE:GREGORIAN
METHOD:PUBLISH
X-WR-CALNAME:Frolic — Vincen García w/ Special Guests
BEGIN:VEVENT
UID:69ec8467dfacabf705ea1d07-1782702000000@frolic.town
DTSTAMP:20260425T151254Z
DTSTART:20260629T030000Z
DTEND:20260629T050000Z
SUMMARY:Vincen García w/ Special Guests
DESCRIPTION:Vincen García performs with special guests at Cervantes’ Other Side. The show should feel intimate and groove-focused\, with a close crowd and a late-spring concert vibe.\nhttps://frolic.town/denver/events/69ec8467dfacabf705ea1d07
LOCATION:Cervantes’ Other Side
URL:https://frolic.town/denver/events/69ec8467dfacabf705ea1d07
END:VEVENT
END:VCALENDAR
