BEGIN:VCALENDAR
VERSION:2.0
PRODID:-//Frolic//Denver Events//EN
CALSCALE:GREGORIAN
METHOD:PUBLISH
X-WR-CALNAME:Frolic — Howie Day
BEGIN:VEVENT
UID:69ec8467dfacabf705ea1cf3-1782529200000@frolic.town
DTSTAMP:20260425T152410Z
DTSTART:20260627T030000Z
DTEND:20260627T050000Z
SUMMARY:Howie Day
DESCRIPTION:Howie Day performs at Cervantes’ Masterpiece Ballroom in an intimate concert setting. Expect a singer-songwriter night with a focused audience and a warm\, acoustic-friendly room.\nhttps://frolic.town/denver/events/69ec8467dfacabf705ea1cf3
LOCATION:Cervantes’ Masterpiece Ballroom
URL:https://frolic.town/denver/events/69ec8467dfacabf705ea1cf3
END:VEVENT
END:VCALENDAR
