BEGIN:VCALENDAR
VERSION:2.0
PRODID:-//Frolic//Denver Events//EN
CALSCALE:GREGORIAN
METHOD:PUBLISH
X-WR-CALNAME:Frolic — Connor Price & Nic D AT MISSION BALLROOM
BEGIN:VEVENT
UID:69ec8466dfacabf705ea1ce8-1782523800000@frolic.town
DTSTAMP:20260425T153626Z
DTSTART:20260627T013000Z
DTEND:20260627T033000Z
SUMMARY:Connor Price & Nic D AT MISSION BALLROOM
DESCRIPTION:AEG Presents Connor Price & Nic D at Mission Ballroom. Expect an all-ages hip-hop show with a big-room production and a crowd ready for singalong moments.\nhttps://frolic.town/denver/events/69ec8466dfacabf705ea1ce8
LOCATION:Mission Ballroom
URL:https://frolic.town/denver/events/69ec8466dfacabf705ea1ce8
END:VEVENT
END:VCALENDAR
