BEGIN:VCALENDAR
VERSION:2.0
PRODID:-//Frolic//Denver Events//EN
CALSCALE:GREGORIAN
METHOD:PUBLISH
X-WR-CALNAME:Frolic — Taylor Scott Band ft. David Hidalgo & Steve Berlin of Los Lobos w/ Lucas Parker Band
BEGIN:VEVENT
UID:69ec8466dfacabf705ea1cdd-1782442800000@frolic.town
DTSTAMP:20260425T152723Z
DTSTART:20260626T030000Z
DTEND:20260626T050000Z
SUMMARY:Taylor Scott Band ft. David Hidalgo & Steve Berlin of Los Lobos w/ Lucas Parker Band
DESCRIPTION:Crawfish for a Cause Presents Taylor Scott Band featuring David Hidalgo and Steve Berlin of Los Lobos with Lucas Parker Band. Expect a roots-rock night with strong musicianship and a benefit-style community feel.\nhttps://frolic.town/denver/events/69ec8466dfacabf705ea1cdd
LOCATION:Cervantes’ Other Side
URL:https://frolic.town/denver/events/69ec8466dfacabf705ea1cdd
END:VEVENT
END:VCALENDAR
