BEGIN:VCALENDAR
VERSION:2.0
PRODID:-//Frolic//Denver Events//EN
CALSCALE:GREGORIAN
METHOD:PUBLISH
X-WR-CALNAME:Frolic — Cory Henry & The Funk Apostles w/ Special Guests
BEGIN:VEVENT
UID:69ec8465dfacabf705ea1cd2-1782442800000@frolic.town
DTSTAMP:20260425T150713Z
DTSTART:20260626T030000Z
DTEND:20260626T050000Z
SUMMARY:Cory Henry & The Funk Apostles w/ Special Guests
DESCRIPTION:KGNU Radio Presents Cory Henry & The Funk Apostles with special guests at Cervantes’ Masterpiece Ballroom. Expect a virtuosic funk performance with a lively crowd and top-tier musicianship.\nhttps://frolic.town/denver/events/69ec8465dfacabf705ea1cd2
LOCATION:Cervantes’ Masterpiece Ballroom
URL:https://frolic.town/denver/events/69ec8465dfacabf705ea1cd2
END:VEVENT
END:VCALENDAR
