BEGIN:VCALENDAR
VERSION:2.0
PRODID:-//Frolic//Denver Events//EN
CALSCALE:GREGORIAN
METHOD:PUBLISH
X-WR-CALNAME:Frolic — Emancipator w/ Duffrey\, CHLLSMTH\, Somatoast\, Govinda\, Foxtail\, Johnathan Singer\, Android Jones & More AT MISSION BALLROOM
BEGIN:VEVENT
UID:69ec8465dfacabf705ea1cbf-1782095400000@frolic.town
DTSTAMP:20260425T151448Z
DTSTART:20260622T023000Z
DTEND:20260622T043000Z
SUMMARY:Emancipator w/ Duffrey\, CHLLSMTH\, Somatoast\, Govinda\, Foxtail\, Johnathan Singer\, Android Jones & More AT MISSION BALLROOM
DESCRIPTION:Threyda Presents Emancipator with Duffrey\, CHLLSMTH\, Somatoast\, Govinda\, Foxtail\, Johnathan Singer\, Android Jones\, and more at Mission Ballroom. Expect a sprawling audiovisual experience with an all-ages crowd and immersive production.\nhttps://frolic.town/denver/events/69ec8465dfacabf705ea1cbf
LOCATION:Mission Ballroom
URL:https://frolic.town/denver/events/69ec8465dfacabf705ea1cbf
END:VEVENT
END:VCALENDAR
