BEGIN:VCALENDAR
VERSION:2.0
PRODID:-//Frolic//Denver Events//EN
CALSCALE:GREGORIAN
METHOD:PUBLISH
X-WR-CALNAME:Frolic — Iration w/ Tunnel Vision **SATURDAY 6/20**
BEGIN:VEVENT
UID:69ec8464dfacabf705ea1cb4-1782010800000@frolic.town
DTSTAMP:20260425T150802Z
DTSTART:20260621T030000Z
DTEND:20260621T050000Z
SUMMARY:Iration w/ Tunnel Vision **SATURDAY 6/20**
DESCRIPTION:Iration continues the Where It All Began Tour at Cervantes’ Masterpiece Ballroom with Tunnel Vision. Expect another reggae-heavy night with a relaxed but energetic concert vibe.\nhttps://frolic.town/denver/events/69ec8464dfacabf705ea1cb4
LOCATION:Cervantes’ Masterpiece Ballroom
URL:https://frolic.town/denver/events/69ec8464dfacabf705ea1cb4
END:VEVENT
END:VCALENDAR
