BEGIN:VCALENDAR
VERSION:2.0
PRODID:-//Frolic//Denver Events//EN
CALSCALE:GREGORIAN
METHOD:PUBLISH
X-WR-CALNAME:Frolic — Flying Mojito Bros
BEGIN:VEVENT
UID:69ec8464dfacabf705ea1ca9-1781926200000@frolic.town
DTSTAMP:20260425T153806Z
DTSTART:20260620T033000Z
DTEND:20260620T053000Z
SUMMARY:Flying Mojito Bros
DESCRIPTION:Flying Mojito Bros play a late-night set at Cervantes’ Other Side. The show should feel playful and danceable\, with an intimate club-room atmosphere.\nhttps://frolic.town/denver/events/69ec8464dfacabf705ea1ca9
LOCATION:Cervantes’ Other Side
URL:https://frolic.town/denver/events/69ec8464dfacabf705ea1ca9
END:VEVENT
END:VCALENDAR
